BEGIN:VCALENDAR
VERSION:2.0
PRODID:-//Aurora York Central PROBUS - ECPv6.15.20//NONSGML v1.0//EN
CALSCALE:GREGORIAN
METHOD:PUBLISH
X-WR-CALNAME:Aurora York Central PROBUS
X-ORIGINAL-URL:https://aurorayorkcentralprobus.ca
X-WR-CALDESC:Events for Aurora York Central PROBUS
REFRESH-INTERVAL;VALUE=DURATION:PT1H
X-Robots-Tag:noindex
X-PUBLISHED-TTL:PT1H
BEGIN:VTIMEZONE
TZID:America/New_York
BEGIN:DAYLIGHT
TZOFFSETFROM:-0500
TZOFFSETTO:-0400
TZNAME:EDT
DTSTART:20250309T070000
END:DAYLIGHT
BEGIN:STANDARD
TZOFFSETFROM:-0400
TZOFFSETTO:-0500
TZNAME:EST
DTSTART:20251102T060000
END:STANDARD
BEGIN:DAYLIGHT
TZOFFSETFROM:-0500
TZOFFSETTO:-0400
TZNAME:EDT
DTSTART:20260308T070000
END:DAYLIGHT
BEGIN:STANDARD
TZOFFSETFROM:-0400
TZOFFSETTO:-0500
TZNAME:EST
DTSTART:20261101T060000
END:STANDARD
BEGIN:DAYLIGHT
TZOFFSETFROM:-0500
TZOFFSETTO:-0400
TZNAME:EDT
DTSTART:20270314T070000
END:DAYLIGHT
BEGIN:STANDARD
TZOFFSETFROM:-0400
TZOFFSETTO:-0500
TZNAME:EST
DTSTART:20271107T060000
END:STANDARD
END:VTIMEZONE
BEGIN:VEVENT
DTSTART;TZID=America/New_York:20260421T140000
DTEND;TZID=America/New_York:20260421T160000
DTSTAMP:20260421T013801
CREATED:20251230T202221Z
LAST-MODIFIED:20251230T202230Z
UID:5725-1776780000-1776787200@aurorayorkcentralprobus.ca
SUMMARY:Bridge Group
DESCRIPTION:JOIN OUR GROUP • CONTACT MARY LEE\n\nMary Lee Koyl\n\n Your name\n     \n\n Your email\n     \n\nPlease leave this field empty.\n\n Subject\n     \n\n Your message\n     \n\n		\n			\n									\n						\n							\n								5\n								+\n								6\n								=
URL:https://aurorayorkcentralprobus.ca/event/bridge-group-3-2-2-3-2-2-2-2/
LOCATION:Chartwell Hollandview Trail\, 200 John West Way\, Aurora\, L4G 0E4
CATEGORIES:Bridge Group
ATTACH;FMTTYPE=image/png:https://aurorayorkcentralprobus.ca/wp-content/uploads/2025/02/16-9-Bridge1800px.png
END:VEVENT
END:VCALENDAR